Workbook

Sheet Instrucciones
A11: Calculadora de Ahorro para Objetivos Migratorios
A13: Actualizada: 2025-10-19
A15: Esta calculadora te ayuda a planificar cuánto necesitas ahorrar y en cuánto tiempo puedes alcanzar tus metas migratorias (viaje, homologación, estudios, traer familia, etc.).
A17: Cómo usarla:
A19: 1) Ve a la hoja «Calculadora» y escribe tu objetivo, el Monto objetivo (€), lo que puedes ahorrar cada mes y cuánto llevas ahorrado.
A21: 2) La tabla calcula automáticamente: Meses necesarios, Fecha estimada y % Avance. También verás un semáforo de estado.
A23: 3) En «Proyección anual», verás un gráfico del ahorro mes a mes (toma como referencia el primer objetivo de la tabla).
A25: Consejos: pon objetivos realistas, revisa tus gastos y ajusta tu ahorro mensual si es necesario. ¡Constancia ante todo! 💪

Sheet Calculadora
A1: Calculadora de metas
A2: Completa las celdas amarillas. Las columnas en verde se calculan automáticamente. | F2: Ahorro en 12 meses (fila 1): | G2: =IFERROR(C4*12,0) -> 0
A4: Objetivo migratorio | B4: Monto objetivo (€) | C4: Ahorro mensual (€) | D4: Ahorro acumulado (€) | E4: Meses necesarios | F4: Fecha estimada de logro | G4: % Avance | H4: Estado
B5: 2500 | C5: 250 | D5: 500 | E5: =IFERROR(ROUNDUP(B5/C5,0),"") -> 10 | F5: =IF(E5="","",TODAY()+E5*30) -> 46249 | G5: =IFERROR(MIN(D5/B5,1),"") -> 0.2 | H5: =IF(G5="","",IF(G5>=1,"✔ Logrado",IF(G5>=0.5,"🟡 En progreso","🔴 Recién inicia"))) -> 🔴 Recién inicia
E6: =IFERROR(ROUNDUP(B6/C6,0),"") | F6: =IF(E6="","",TODAY()+E6*30) | G6: =IFERROR(MIN(D6/B6,1),"") | H6: =IF(G6="","",IF(G6>=1,"✔ Logrado",IF(G6>=0.5,"🟡 En progreso","🔴 Recién inicia")))
E7: =IFERROR(ROUNDUP(B7/C7,0),"") | F7: =IF(E7="","",TODAY()+E7*30) | G7: =IFERROR(MIN(D7/B7,1),"") | H7: =IF(G7="","",IF(G7>=1,"✔ Logrado",IF(G7>=0.5,"🟡 En progreso","🔴 Recién inicia")))
E8: =IFERROR(ROUNDUP(B8/C8,0),"") | F8: =IF(E8="","",TODAY()+E8*30) | G8: =IFERROR(MIN(D8/B8,1),"") | H8: =IF(G8="","",IF(G8>=1,"✔ Logrado",IF(G8>=0.5,"🟡 En progreso","🔴 Recién inicia")))
E9: =IFERROR(ROUNDUP(B9/C9,0),"") | F9: =IF(E9="","",TODAY()+E9*30) | G9: =IFERROR(MIN(D9/B9,1),"") | H9: =IF(G9="","",IF(G9>=1,"✔ Logrado",IF(G9>=0.5,"🟡 En progreso","🔴 Recién inicia")))
E10: =IFERROR(ROUNDUP(B10/C10,0),"") | F10: =IF(E10="","",TODAY()+E10*30) | G10: =IFERROR(MIN(D10/B10,1),"") | H10: =IF(G10="","",IF(G10>=1,"✔ Logrado",IF(G10>=0.5,"🟡 En progreso","🔴 Recién inicia")))
E11: =IFERROR(ROUNDUP(B11/C11,0),"") | F11: =IF(E11="","",TODAY()+E11*30) | G11: =IFERROR(MIN(D11/B11,1),"") | H11: =IF(G11="","",IF(G11>=1,"✔ Logrado",IF(G11>=0.5,"🟡 En progreso","🔴 Recién inicia")))
E12: =IFERROR(ROUNDUP(B12/C12,0),"") | F12: =IF(E12="","",TODAY()+E12*30) | G12: =IFERROR(MIN(D12/B12,1),"") | H12: =IF(G12="","",IF(G12>=1,"✔ Logrado",IF(G12>=0.5,"🟡 En progreso","🔴 Recién inicia")))
E13: =IFERROR(ROUNDUP(B13/C13,0),"") | F13: =IF(E13="","",TODAY()+E13*30) | G13: =IFERROR(MIN(D13/B13,1),"") | H13: =IF(G13="","",IF(G13>=1,"✔ Logrado",IF(G13>=0.5,"🟡 En progreso","🔴 Recién inicia")))
E14: =IFERROR(ROUNDUP(B14/C14,0),"") | F14: =IF(E14="","",TODAY()+E14*30) | G14: =IFERROR(MIN(D14/B14,1),"") | H14: =IF(G14="","",IF(G14>=1,"✔ Logrado",IF(G14>=0.5,"🟡 En progreso","🔴 Recién inicia")))

Sheet Proyección anual
A1: Proyección anual (objetivo 1)
A2: Se calcula con el ahorro mensual del primer objetivo de la hoja «Calculadora».
A4: Mes | B4: Ahorro acumulado (€)
A5: Enero | B5: 100
A6: Febrero | B6: 200
A7: Marzo | B7: 300
A8: Abril | B8: =IFERROR(Calculadora!C4*4,"")
A9: Mayo | B9: =IFERROR(Calculadora!C4*5,"")
A10: Junio | B10: =IFERROR(Calculadora!C4*6,"")
A11: Julio | B11: =IFERROR(Calculadora!C4*7,"")
A12: Agosto | B12: =IFERROR(Calculadora!C4*8,"")
A13: Septiembre | B13: =IFERROR(Calculadora!C4*9,"")
A14: Octubre | B14: =IFERROR(Calculadora!C4*10,"")
A15: Noviembre | B15: =IFERROR(Calculadora!C4*11,"")
A16: Diciembre | B16: =IFERROR(Calculadora!C4*12,"")
